Package: Rcpi Version: 1.43.0 Command: /Library/Frameworks/R.framework/Resources/bin/R CMD INSTALL Rcpi StartedAt: 2025-02-09 15:12:59 -0500 (Sun, 09 Feb 2025) EndedAt: 2025-02-09 15:13:06 -0500 (Sun, 09 Feb 2025) EllapsedTime: 6.8 seconds RetCode: 0 Status: OK