Package: Rcpi Version: 1.43.0 Command: rm -rf Rcpi.buildbin-libdir && mkdir Rcpi.buildbin-libdir && /Users/biocbuild/BBS/utils/build-universal.sh Rcpi_1.43.0.tar.gz /Library/Frameworks/R.framework/Resources/bin/R Rcpi.buildbin-libdir StartedAt: 2025-02-10 01:10:44 -0500 (Mon, 10 Feb 2025) EndedAt: 2025-02-10 01:11:10 -0500 (Mon, 10 Feb 2025) EllapsedTime: 26.2 seconds RetCode: 0 Status: OK PackageFile: Rcpi_1.43.0.tgz PackageFileSize: 2.583 MiB