Package: Rcpi Version: 1.43.0 Command: /Library/Frameworks/R.framework/Resources/bin/R CMD build --keep-empty-dirs --no-resave-data Rcpi StartedAt: 2025-02-09 18:06:23 -0500 (Sun, 09 Feb 2025) EndedAt: 2025-02-09 18:06:53 -0500 (Sun, 09 Feb 2025) EllapsedTime: 29.8 seconds RetCode: 0 Status: OK PackageFile: Rcpi_1.43.0.tar.gz PackageFileSize: 2.97 MiB