Package: Rcpi Version: 1.43.0 Command: /Library/Frameworks/R.framework/Resources/bin/R CMD check --install=check:Rcpi.install-out.txt --library=/Library/Frameworks/R.framework/Resources/library --no-vignettes --timings Rcpi_1.43.0.tar.gz StartedAt: 2025-02-09 23:00:04 -0500 (Sun, 09 Feb 2025) EndedAt: 2025-02-09 23:02:32 -0500 (Sun, 09 Feb 2025) EllapsedTime: 147.4 seconds RetCode: 0 Status: OK CheckDir: Rcpi.Rcheck Warnings: 0