Package: Rcpi Version: 1.43.0 Command: /home/biocbuild/bbs-3.21-bioc/R/bin/R CMD check --install=check:Rcpi.install-out.txt --library=/home/biocbuild/bbs-3.21-bioc/R/site-library --timings Rcpi_1.43.0.tar.gz StartedAt: 2025-02-10 01:44:21 -0500 (Mon, 10 Feb 2025) EndedAt: 2025-02-10 01:46:13 -0500 (Mon, 10 Feb 2025) EllapsedTime: 112.2 seconds RetCode: 0 Status: OK CheckDir: Rcpi.Rcheck Warnings: 0