Package: Rcwl Version: 1.23.0 Maintainer: Qiang Hu MaintainerEmail: qiang.hu at roswellpark.org git_url: https://git.bioconductor.org/packages/Rcwl git_branch: devel git_last_commit: dd1c6c5 git_last_commit_date: 2024-10-29 10:34:39 -0500 (Tue, 29 Oct 2024)