Package: Rcwl Version: 1.23.0 Command: /Library/Frameworks/R.framework/Resources/bin/R CMD check --install=check:Rcwl.install-out.txt --library=/Library/Frameworks/R.framework/Resources/library --no-vignettes --timings Rcwl_1.23.0.tar.gz StartedAt: 2025-02-09 20:52:49 -0500 (Sun, 09 Feb 2025) EndedAt: 2025-02-09 20:53:26 -0500 (Sun, 09 Feb 2025) EllapsedTime: 36.5 seconds RetCode: 0 Status: OK CheckDir: Rcwl.Rcheck Warnings: 0