Package: Rcwl Version: 1.23.0 Command: /home/biocbuild/R/R/bin/R CMD build --keep-empty-dirs --no-resave-data Rcwl StartedAt: 2025-01-29 01:33:31 -0000 (Wed, 29 Jan 2025) EndedAt: 2025-01-29 01:34:23 -0000 (Wed, 29 Jan 2025) EllapsedTime: 52.0 seconds RetCode: 0 Status: OK PackageFile: Rcwl_1.23.0.tar.gz PackageFileSize: 1.336 MiB