Package: RcwlPipelines Version: 1.23.0 Command: /Library/Frameworks/R.framework/Resources/bin/R CMD build --keep-empty-dirs --no-resave-data RcwlPipelines StartedAt: 2025-02-12 17:21:45 -0500 (Wed, 12 Feb 2025) EndedAt: 2025-02-12 17:22:01 -0500 (Wed, 12 Feb 2025) EllapsedTime: 15.2 seconds RetCode: 0 Status: OK PackageFile: RcwlPipelines_1.23.0.tar.gz PackageFileSize: 877.4 KiB