Package: RcwlPipelines Version: 1.23.0 Command: /Library/Frameworks/R.framework/Resources/bin/R CMD check --install=check:RcwlPipelines.install-out.txt --library=/Library/Frameworks/R.framework/Resources/library --no-vignettes --timings RcwlPipelines_1.23.0.tar.gz StartedAt: 2025-02-09 20:52:50 -0500 (Sun, 09 Feb 2025) EndedAt: 2025-02-09 20:53:33 -0500 (Sun, 09 Feb 2025) EllapsedTime: 42.7 seconds RetCode: 0 Status: OK CheckDir: RcwlPipelines.Rcheck Warnings: 0