Package: RcwlPipelines Version: 1.23.0 Command: /Library/Frameworks/R.framework/Resources/bin/R CMD INSTALL RcwlPipelines StartedAt: 2025-02-12 15:29:17 -0500 (Wed, 12 Feb 2025) EndedAt: 2025-02-12 15:29:22 -0500 (Wed, 12 Feb 2025) EllapsedTime: 5.2 seconds RetCode: 0 Status: OK