Package: RcwlPipelines Version: 1.23.0 Command: rm -rf RcwlPipelines.buildbin-libdir && mkdir RcwlPipelines.buildbin-libdir && /Users/biocbuild/BBS/utils/build-universal.sh RcwlPipelines_1.23.0.tar.gz /Library/Frameworks/R.framework/Resources/bin/R RcwlPipelines.buildbin-libdir StartedAt: 2025-02-13 00:53:12 -0500 (Thu, 13 Feb 2025) EndedAt: 2025-02-13 00:53:34 -0500 (Thu, 13 Feb 2025) EllapsedTime: 21.9 seconds RetCode: 0 Status: OK PackageFile: RcwlPipelines_1.23.0.tgz PackageFileSize: 1.037 MiB