Package: RcwlPipelines Version: 1.23.0 Command: /Library/Frameworks/R.framework/Resources/bin/R CMD build --keep-empty-dirs --no-resave-data RcwlPipelines StartedAt: 2025-02-09 18:06:29 -0500 (Sun, 09 Feb 2025) EndedAt: 2025-02-09 18:07:16 -0500 (Sun, 09 Feb 2025) EllapsedTime: 46.9 seconds RetCode: 0 Status: OK PackageFile: RcwlPipelines_1.23.0.tar.gz PackageFileSize: 877.4 KiB