Package: RcwlPipelines Version: 1.23.0 Command: /Library/Frameworks/R.framework/Resources/bin/R CMD INSTALL RcwlPipelines StartedAt: 2025-02-09 15:45:17 -0500 (Sun, 09 Feb 2025) EndedAt: 2025-02-09 15:45:36 -0500 (Sun, 09 Feb 2025) EllapsedTime: 19.2 seconds RetCode: 0 Status: OK