Package: RcwlPipelines Version: 1.23.0 Command: /home/biocbuild/bbs-3.21-bioc/R/bin/R CMD check --install=check:RcwlPipelines.install-out.txt --library=/home/biocbuild/bbs-3.21-bioc/R/site-library --timings RcwlPipelines_1.23.0.tar.gz StartedAt: 2025-02-13 01:45:00 -0500 (Thu, 13 Feb 2025) EndedAt: 2025-02-13 01:47:07 -0500 (Thu, 13 Feb 2025) EllapsedTime: 127.3 seconds RetCode: 0 Status: OK CheckDir: RcwlPipelines.Rcheck Warnings: 0