Package: RcwlPipelines Version: 1.23.0 Command: /home/biocbuild/bbs-3.21-bioc/R/bin/R CMD INSTALL RcwlPipelines StartedAt: 2025-02-09 15:12:39 -0500 (Sun, 09 Feb 2025) EndedAt: 2025-02-09 15:12:52 -0500 (Sun, 09 Feb 2025) EllapsedTime: 13.2 seconds RetCode: 0 Status: OK