Package: ReUseData Version: 1.7.0 Command: /home/biocbuild/R/R/bin/R CMD build --keep-empty-dirs --no-resave-data ReUseData StartedAt: 2025-01-29 01:38:49 -0000 (Wed, 29 Jan 2025) EndedAt: 2025-01-29 01:40:06 -0000 (Wed, 29 Jan 2025) EllapsedTime: 77.0 seconds RetCode: 0 Status: OK PackageFile: ReUseData_1.7.0.tar.gz PackageFileSize: 1.088 MiB