Package: ReUseData Version: 1.7.0 Command: /home/biocbuild/R/R/bin/R CMD INSTALL ReUseData StartedAt: 2025-01-29 20:36:23 -0000 (Wed, 29 Jan 2025) EndedAt: 2025-01-29 20:36:43 -0000 (Wed, 29 Jan 2025) EllapsedTime: 19.7 seconds RetCode: 0 Status: OK