Package: ReUseData Version: 1.7.0 Command: rm -rf ReUseData.buildbin-libdir && mkdir ReUseData.buildbin-libdir && /Users/biocbuild/BBS/utils/build-universal.sh ReUseData_1.7.0.tar.gz /Library/Frameworks/R.framework/Resources/bin/R ReUseData.buildbin-libdir StartedAt: 2025-02-10 01:11:32 -0500 (Mon, 10 Feb 2025) EndedAt: 2025-02-10 01:11:56 -0500 (Mon, 10 Feb 2025) EllapsedTime: 24.1 seconds RetCode: 0 Status: OK PackageFile: ReUseData_1.7.0.tgz PackageFileSize: 1.377 MiB