Package: ReUseData Version: 1.7.0 Command: /home/biocbuild/bbs-3.21-bioc/R/bin/R CMD INSTALL ReUseData StartedAt: 2025-02-12 15:13:16 -0500 (Wed, 12 Feb 2025) EndedAt: 2025-02-12 15:13:31 -0500 (Wed, 12 Feb 2025) EllapsedTime: 15.3 seconds RetCode: 0 Status: OK