Package: ReactomeContentService4R Version: 1.15.1 Command: /Library/Frameworks/R.framework/Resources/bin/R CMD INSTALL ReactomeContentService4R StartedAt: 2025-02-09 15:03:46 -0500 (Sun, 09 Feb 2025) EndedAt: 2025-02-09 15:03:47 -0500 (Sun, 09 Feb 2025) EllapsedTime: 1.5 seconds RetCode: 0 Status: OK