Package: ReactomeContentService4R Version: 1.15.1 Command: rm -rf ReactomeContentService4R.buildbin-libdir && mkdir ReactomeContentService4R.buildbin-libdir && /Users/biocbuild/BBS/utils/build-universal.sh ReactomeContentService4R_1.15.1.tar.gz /Library/Frameworks/R.framework/Resources/bin/R ReactomeContentService4R.buildbin-libdir StartedAt: 2025-02-10 01:10:59 -0500 (Mon, 10 Feb 2025) EndedAt: 2025-02-10 01:11:06 -0500 (Mon, 10 Feb 2025) EllapsedTime: 6.9 seconds RetCode: 0 Status: OK PackageFile: ReactomeContentService4R_1.15.1.tgz PackageFileSize: 1.157 MiB