Package: ReactomeContentService4R Version: 1.15.1 Command: /home/biocbuild/bbs-3.21-bioc/R/bin/R CMD build --keep-empty-dirs --no-resave-data ReactomeContentService4R StartedAt: 2025-02-09 18:51:57 -0500 (Sun, 09 Feb 2025) EndedAt: 2025-02-09 18:52:33 -0500 (Sun, 09 Feb 2025) EllapsedTime: 36.1 seconds RetCode: 0 Status: OK PackageFile: ReactomeContentService4R_1.15.1.tar.gz PackageFileSize: 2.281 MiB