Package: ReactomeContentService4R Version: 1.15.1 Command: /home/biocbuild/bbs-3.21-bioc/R/bin/R CMD INSTALL ReactomeContentService4R StartedAt: 2025-02-09 15:06:21 -0500 (Sun, 09 Feb 2025) EndedAt: 2025-02-09 15:06:44 -0500 (Sun, 09 Feb 2025) EllapsedTime: 23.8 seconds RetCode: 0 Status: OK