Package: ReactomeGSA Version: 1.21.2 Maintainer: Johannes Griss MaintainerEmail: johannes.griss at meduniwien.ac.at git_url: https://git.bioconductor.org/packages/ReactomeGSA git_branch: devel git_last_commit: 1612e12 git_last_commit_date: 2024-11-27 14:03:16 -0500 (Wed, 27 Nov 2024)