Package: ReactomeGSA Version: 1.21.2 Command: rm -rf ReactomeGSA.buildbin-libdir && mkdir ReactomeGSA.buildbin-libdir && /Users/biocbuild/BBS/utils/build-universal.sh ReactomeGSA_1.21.2.tar.gz /Library/Frameworks/R.framework/Resources/bin/R ReactomeGSA.buildbin-libdir StartedAt: 2025-02-09 22:26:56 -0500 (Sun, 09 Feb 2025) EndedAt: 2025-02-09 22:27:00 -0500 (Sun, 09 Feb 2025) EllapsedTime: 4.1 seconds RetCode: 0 Status: OK PackageFile: ReactomeGSA_1.21.2.tgz PackageFileSize: 766.7 KiB