Package: ReactomeGSA Version: 1.21.2 Command: /Library/Frameworks/R.framework/Resources/bin/R CMD build --keep-empty-dirs --no-resave-data ReactomeGSA StartedAt: 2025-02-03 17:58:13 -0500 (Mon, 03 Feb 2025) EndedAt: 2025-02-03 18:02:24 -0500 (Mon, 03 Feb 2025) EllapsedTime: 250.8 seconds RetCode: 0 Status: OK PackageFile: ReactomeGSA_1.21.2.tar.gz PackageFileSize: 403 KiB