Package: ReactomeGSA Version: 1.21.2 Command: /Library/Frameworks/R.framework/Resources/bin/R CMD check --install=check:ReactomeGSA.install-out.txt --library=/Library/Frameworks/R.framework/Resources/library --no-vignettes --timings ReactomeGSA_1.21.2.tar.gz StartedAt: 2025-02-09 20:53:30 -0500 (Sun, 09 Feb 2025) EndedAt: 2025-02-09 21:02:04 -0500 (Sun, 09 Feb 2025) EllapsedTime: 514.5 seconds RetCode: 0 Status: OK CheckDir: ReactomeGSA.Rcheck Warnings: 0