Package: ReactomeGSA Version: 1.21.2 Command: /home/biocbuild/R/R/bin/R CMD build --keep-empty-dirs --no-resave-data ReactomeGSA StartedAt: 2025-01-29 01:34:23 -0000 (Wed, 29 Jan 2025) EndedAt: 2025-01-29 01:41:22 -0000 (Wed, 29 Jan 2025) EllapsedTime: 419.2 seconds RetCode: 0 Status: OK PackageFile: ReactomeGSA_1.21.2.tar.gz PackageFileSize: 196.3 KiB