############################################################################## ############################################################################## ### ### Running command: ### ### /home/biocbuild/R/R/bin/R CMD check --install=check:ReactomeGSA.install-out.txt --library=/home/biocbuild/R/R/site-library --no-vignettes --timings ReactomeGSA_1.21.2.tar.gz ### ############################################################################## ############################################################################## * using log directory ‘/home/biocbuild/bbs-3.21-bioc/meat/ReactomeGSA.Rcheck’ * using R Under development (unstable) (2024-11-24 r87369) * using platform: aarch64-unknown-linux-gnu * R was compiled by aarch64-unknown-linux-gnu-gcc (GCC) 14.2.0 GNU Fortran (GCC) 14.2.0 * running under: openEuler 24.03 (LTS) * using session charset: UTF-8 * using option ‘--no-vignettes’ * checking for file ‘ReactomeGSA/DESCRIPTION’ ... OK * checking extension type ... Package * this is package ‘ReactomeGSA’ version ‘1.21.2’ * package encoding: UTF-8 * checking package namespace information ... OK * checking package dependencies ... OK * checking if this is a source package ... OK * checking if there is a namespace ... OK * checking for hidden files and directories ... OK * checking for portable file names ... OK * checking for sufficient/correct file permissions ... OK * checking whether package ‘ReactomeGSA’ can be installed ... OK * checking installed package size ... OK * checking package directory ... OK * checking ‘build’ directory ... OK * checking DESCRIPTION meta-information ... OK * checking top-level files ... OK * checking for left-over files ... OK * checking index information ... OK * checking package subdirectories ... OK * checking code files for non-ASCII characters ... OK * checking R files for syntax errors ... OK * checking whether the package can be loaded ... OK * checking whether the package can be loaded with stated dependencies ... OK * checking whether the package can be unloaded cleanly ... OK * checking whether the namespace can be loaded with stated dependencies ... OK * checking whether the namespace can be unloaded cleanly ... OK * checking loading without being on the library search path ... OK * checking whether startup messages can be suppressed ... OK * checking dependencies in R code ... OK * checking S3 generic/method consistency ... OK * checking replacement functions ... OK * checking foreign function calls ... OK * checking R code for possible problems ... NOTE plot_correlations,ReactomeAnalysisResult: no visible binding for global variable ‘combined_sig’ plot_correlations,ReactomeAnalysisResult: no visible binding for global variable ‘alpha’ plot_gsva_pathway,ReactomeAnalysisResult: no visible binding for global variable ‘cluster_id’ plot_gsva_pathway,ReactomeAnalysisResult: no visible binding for global variable ‘expr’ plot_gsva_pca,ReactomeAnalysisResult: no visible binding for global variable ‘gsva_result’ plot_gsva_pca,ReactomeAnalysisResult: no visible binding for global variable ‘PC1’ plot_gsva_pca,ReactomeAnalysisResult: no visible binding for global variable ‘PC2’ plot_heatmap,ReactomeAnalysisResult: no visible global function definition for ‘desc’ plot_heatmap,ReactomeAnalysisResult: no visible binding for global variable ‘n_sig’ plot_heatmap,ReactomeAnalysisResult: no visible binding for global variable ‘dataset’ plot_heatmap,ReactomeAnalysisResult: no visible binding for global variable ‘Name’ plot_volcano,ReactomeAnalysisResult: no visible binding for global variable ‘av_foldchange’ plot_volcano,ReactomeAnalysisResult: no visible binding for global variable ‘FDR’ Undefined global functions or variables: FDR Name PC1 PC2 alpha av_foldchange cluster_id combined_sig dataset desc expr gsva_result n_sig * checking Rd files ... OK * checking Rd metadata ... OK * checking Rd cross-references ... OK * checking for missing documentation entries ... OK * checking for code/documentation mismatches ... OK * checking Rd \usage sections ... OK * checking Rd contents ... OK * checking for unstated dependencies in examples ... OK * checking files in ‘vignettes’ ... OK * checking examples ... OK Examples with CPU (user + system) or elapsed time > 5s user system elapsed plot_gsva_pca-ReactomeAnalysisResult-method 57.520 3.542 97.725 plot_gsva_heatmap-ReactomeAnalysisResult-method 58.055 1.972 100.117 plot_gsva_heatmap 57.521 2.369 96.112 plot_gsva_pca 54.786 3.316 94.940 plot_gsva_pathway-ReactomeAnalysisResult-method 54.844 2.093 93.444 plot_gsva_pathway 53.666 2.138 95.196 analyse_sc_clusters 52.427 1.612 133.217 analyse_sc_clusters-SingleCellExperiment-method 51.780 1.778 91.822 analyse_sc_clusters-Seurat-method 51.440 1.218 95.212 generate_pseudo_bulk_data 18.480 1.466 20.129 ReactomeAnalysisRequest 6.904 0.399 7.326 perform_reactome_analysis 4.969 0.539 63.866 load_public_dataset 1.203 0.174 11.579 find_public_datasets 0.251 0.008 6.247 get_reactome_methods 0.239 0.020 6.166 * checking for unstated dependencies in ‘tests’ ... OK * checking tests ... Running ‘testthat.R’ OK * checking for unstated dependencies in vignettes ... OK * checking package vignettes ... OK * checking running R code from vignettes ... SKIPPED * checking re-building of vignette outputs ... SKIPPED * checking PDF version of manual ... OK * DONE Status: 1 NOTE See ‘/home/biocbuild/bbs-3.21-bioc/meat/ReactomeGSA.Rcheck/00check.log’ for details.