Package: ReactomeGSA Version: 1.21.2 Command: /home/biocbuild/R/R/bin/R CMD INSTALL ReactomeGSA StartedAt: 2025-01-29 20:27:48 -0000 (Wed, 29 Jan 2025) EndedAt: 2025-01-29 20:27:58 -0000 (Wed, 29 Jan 2025) EllapsedTime: 10.1 seconds RetCode: 0 Status: OK