Package: ReactomeGSA Version: 1.21.2 Command: /Library/Frameworks/R.framework/Resources/bin/R CMD build --keep-empty-dirs --no-resave-data ReactomeGSA StartedAt: 2025-02-03 18:04:17 -0500 (Mon, 03 Feb 2025) EndedAt: 2025-02-03 18:08:55 -0500 (Mon, 03 Feb 2025) EllapsedTime: 277.7 seconds RetCode: 0 Status: OK PackageFile: ReactomeGSA_1.21.2.tar.gz PackageFileSize: 402.7 KiB