Package: ReactomeGSA Version: 1.21.2 Command: /Library/Frameworks/R.framework/Resources/bin/R CMD INSTALL ReactomeGSA StartedAt: 2025-02-09 15:39:39 -0500 (Sun, 09 Feb 2025) EndedAt: 2025-02-09 15:39:50 -0500 (Sun, 09 Feb 2025) EllapsedTime: 11.0 seconds RetCode: 0 Status: OK