Package: ReactomeGSA Version: 1.21.2 Command: /home/biocbuild/bbs-3.21-bioc/R/bin/R CMD check --install=check:ReactomeGSA.install-out.txt --library=/home/biocbuild/bbs-3.21-bioc/R/site-library --timings ReactomeGSA_1.21.2.tar.gz StartedAt: 2025-02-10 01:45:54 -0500 (Mon, 10 Feb 2025) EndedAt: 2025-02-10 02:04:33 -0500 (Mon, 10 Feb 2025) EllapsedTime: 1118.8 seconds RetCode: 1 Status: ERROR CheckDir: ReactomeGSA.Rcheck Warnings: NA