Package: ReactomeGSA Version: 1.21.2 Command: /home/biocbuild/bbs-3.21-bioc/R/bin/R CMD INSTALL ReactomeGSA StartedAt: 2025-02-03 16:01:12 -0500 (Mon, 03 Feb 2025) EndedAt: 2025-02-03 16:01:20 -0500 (Mon, 03 Feb 2025) EllapsedTime: 8.0 seconds RetCode: 0 Status: OK