Package: ReactomeGSA Version: 1.21.2 Command: rm -rf ReactomeGSA.buildbin-libdir && mkdir ReactomeGSA.buildbin-libdir && E:\biocbuild\bbs-3.21-bioc\R\bin\R.exe CMD INSTALL --build --library=ReactomeGSA.buildbin-libdir ReactomeGSA_1.21.2.tar.gz StartedAt: 2025-02-10 08:30:41 -0500 (Mon, 10 Feb 2025) EndedAt: 2025-02-10 08:32:07 -0500 (Mon, 10 Feb 2025) EllapsedTime: 85.5 seconds RetCode: 0 Status: OK PackageFile: ReactomeGSA_1.21.2.zip PackageFileSize: 529.2 KiB