Package: ReactomeGSA Version: 1.21.2 Command: E:\biocbuild\bbs-3.21-bioc\R\bin\R.exe CMD INSTALL ReactomeGSA StartedAt: 2025-02-03 16:26:50 -0500 (Mon, 03 Feb 2025) EndedAt: 2025-02-03 16:27:25 -0500 (Mon, 03 Feb 2025) EllapsedTime: 35.7 seconds RetCode: 0 Status: OK