Package: ReactomePA Version: 1.51.0 Command: /Library/Frameworks/R.framework/Resources/bin/R CMD build --keep-empty-dirs --no-resave-data ReactomePA StartedAt: 2025-02-09 17:22:01 -0500 (Sun, 09 Feb 2025) EndedAt: 2025-02-09 17:22:13 -0500 (Sun, 09 Feb 2025) EllapsedTime: 12.2 seconds RetCode: 0 Status: OK PackageFile: ReactomePA_1.51.0.tar.gz PackageFileSize: 57.19 KiB