Package: ReactomePA Version: 1.51.0 Command: /home/biocbuild/R/R/bin/R CMD build --keep-empty-dirs --no-resave-data ReactomePA StartedAt: 2025-01-29 01:34:27 -0000 (Wed, 29 Jan 2025) EndedAt: 2025-01-29 01:35:09 -0000 (Wed, 29 Jan 2025) EllapsedTime: 42.0 seconds RetCode: 0 Status: OK PackageFile: ReactomePA_1.51.0.tar.gz PackageFileSize: 58.55 KiB