Package: ReactomePA Version: 1.51.0 Command: /home/biocbuild/R/R/bin/R CMD INSTALL ReactomePA StartedAt: 2025-01-29 20:18:10 -0000 (Wed, 29 Jan 2025) EndedAt: 2025-01-29 20:18:41 -0000 (Wed, 29 Jan 2025) EllapsedTime: 30.6 seconds RetCode: 0 Status: OK