Package: ReactomePA Version: 1.51.0 Command: rm -rf ReactomePA.buildbin-libdir && mkdir ReactomePA.buildbin-libdir && /Users/biocbuild/BBS/utils/build-universal.sh ReactomePA_1.51.0.tar.gz /Library/Frameworks/R.framework/Resources/bin/R ReactomePA.buildbin-libdir StartedAt: 2025-02-10 01:11:01 -0500 (Mon, 10 Feb 2025) EndedAt: 2025-02-10 01:11:34 -0500 (Mon, 10 Feb 2025) EllapsedTime: 33.3 seconds RetCode: 0 Status: OK PackageFile: ReactomePA_1.51.0.tgz PackageFileSize: 92.5 KiB