Package: ReactomePA Version: 1.51.0 Command: /Library/Frameworks/R.framework/Resources/bin/R CMD INSTALL ReactomePA StartedAt: 2025-02-09 15:33:26 -0500 (Sun, 09 Feb 2025) EndedAt: 2025-02-09 15:33:57 -0500 (Sun, 09 Feb 2025) EllapsedTime: 30.1 seconds RetCode: 0 Status: OK