Package: ReactomePA Version: 1.51.0 Command: chmod a+r ReactomePA -R && E:\biocbuild\bbs-3.21-bioc\R\bin\R.exe CMD build --keep-empty-dirs --no-resave-data ReactomePA StartedAt: 2025-02-09 21:05:00 -0500 (Sun, 09 Feb 2025) EndedAt: 2025-02-09 21:05:51 -0500 (Sun, 09 Feb 2025) EllapsedTime: 51.2 seconds RetCode: 0 Status: OK PackageFile: ReactomePA_1.51.0.tar.gz PackageFileSize: 57.27 KiB