Package: ReactomePA Version: 1.51.0 Command: E:\biocbuild\bbs-3.21-bioc\R\bin\R.exe CMD check --no-multiarch --install=check:ReactomePA.install-out.txt --library=E:\biocbuild\bbs-3.21-bioc\R\library --no-vignettes --timings ReactomePA_1.51.0.tar.gz StartedAt: 2025-02-10 04:33:42 -0500 (Mon, 10 Feb 2025) EndedAt: 2025-02-10 04:38:22 -0500 (Mon, 10 Feb 2025) EllapsedTime: 280.1 seconds RetCode: 0 Status: OK CheckDir: ReactomePA.Rcheck Warnings: 0