Package: ReactomePA Version: 1.51.0 Command: E:\biocbuild\bbs-3.21-bioc\R\bin\R.exe CMD INSTALL ReactomePA StartedAt: 2025-02-09 15:57:54 -0500 (Sun, 09 Feb 2025) EndedAt: 2025-02-09 15:58:26 -0500 (Sun, 09 Feb 2025) EllapsedTime: 32.2 seconds RetCode: 0 Status: OK