Package: RedeR Version: 3.3.0 Command: /Library/Frameworks/R.framework/Resources/bin/R CMD build --keep-empty-dirs --no-resave-data RedeR StartedAt: 2025-02-09 17:22:15 -0500 (Sun, 09 Feb 2025) EndedAt: 2025-02-09 17:22:21 -0500 (Sun, 09 Feb 2025) EllapsedTime: 6.1 seconds RetCode: 0 Status: OK PackageFile: RedeR_3.3.0.tar.gz PackageFileSize: 4.347 MiB