Package: RedeR Version: 3.3.0 Command: /home/biocbuild/R/R/bin/R CMD check --install=check:RedeR.install-out.txt --library=/home/biocbuild/R/R/site-library --no-vignettes --timings RedeR_3.3.0.tar.gz StartedAt: 2025-01-28 14:24:32 -0000 (Tue, 28 Jan 2025) EndedAt: 2025-01-28 14:25:11 -0000 (Tue, 28 Jan 2025) EllapsedTime: 39.0 seconds RetCode: 0 Status: OK CheckDir: RedeR.Rcheck Warnings: 0