Package: RedeR Version: 3.3.0 Command: rm -rf RedeR.buildbin-libdir && mkdir RedeR.buildbin-libdir && /Users/biocbuild/BBS/utils/build-universal.sh RedeR_3.3.0.tar.gz /Library/Frameworks/R.framework/Resources/bin/R RedeR.buildbin-libdir StartedAt: 2025-02-10 01:11:10 -0500 (Mon, 10 Feb 2025) EndedAt: 2025-02-10 01:11:21 -0500 (Mon, 10 Feb 2025) EllapsedTime: 11.5 seconds RetCode: 0 Status: OK PackageFile: RedeR_3.3.0.tgz PackageFileSize: 3.628 MiB