Package: RedeR Version: 3.3.0 Command: /Library/Frameworks/R.framework/Resources/bin/R CMD build --keep-empty-dirs --no-resave-data RedeR StartedAt: 2025-02-12 18:00:27 -0500 (Wed, 12 Feb 2025) EndedAt: 2025-02-12 18:00:45 -0500 (Wed, 12 Feb 2025) EllapsedTime: 18.3 seconds RetCode: 0 Status: OK PackageFile: RedeR_3.3.0.tar.gz PackageFileSize: 4.347 MiB