Package: RedeR Version: 3.3.0 Command: /Library/Frameworks/R.framework/Resources/bin/R CMD check --install=check:RedeR.install-out.txt --library=/Library/Frameworks/R.framework/Resources/library --no-vignettes --timings RedeR_3.3.0.tar.gz StartedAt: 2025-02-09 23:01:50 -0500 (Sun, 09 Feb 2025) EndedAt: 2025-02-09 23:02:40 -0500 (Sun, 09 Feb 2025) EllapsedTime: 50.2 seconds RetCode: 0 Status: OK CheckDir: RedeR.Rcheck Warnings: 0